BEGIN:VCALENDAR
VERSION:2.0
PRODID:-//Restored Church Toronto - ECPv6.15.20//NONSGML v1.0//EN
CALSCALE:GREGORIAN
METHOD:PUBLISH
X-WR-CALNAME:Restored Church Toronto
X-ORIGINAL-URL:https://rctoronto.org
X-WR-CALDESC:Events for Restored Church Toronto
REFRESH-INTERVAL;VALUE=DURATION:PT1H
X-Robots-Tag:noindex
X-PUBLISHED-TTL:PT1H
BEGIN:VTIMEZONE
TZID:America/Toronto
BEGIN:DAYLIGHT
TZOFFSETFROM:-0500
TZOFFSETTO:-0400
TZNAME:EDT
DTSTART:20240310T070000
END:DAYLIGHT
BEGIN:STANDARD
TZOFFSETFROM:-0400
TZOFFSETTO:-0500
TZNAME:EST
DTSTART:20241103T060000
END:STANDARD
BEGIN:DAYLIGHT
TZOFFSETFROM:-0500
TZOFFSETTO:-0400
TZNAME:EDT
DTSTART:20250309T070000
END:DAYLIGHT
BEGIN:STANDARD
TZOFFSETFROM:-0400
TZOFFSETTO:-0500
TZNAME:EST
DTSTART:20251102T060000
END:STANDARD
BEGIN:DAYLIGHT
TZOFFSETFROM:-0500
TZOFFSETTO:-0400
TZNAME:EDT
DTSTART:20260308T070000
END:DAYLIGHT
BEGIN:STANDARD
TZOFFSETFROM:-0400
TZOFFSETTO:-0500
TZNAME:EST
DTSTART:20261101T060000
END:STANDARD
END:VTIMEZONE
BEGIN:VEVENT
DTSTART;TZID=America/Toronto:20251219T193000
DTEND;TZID=America/Toronto:20251219T210000
DTSTAMP:20260426T000116
CREATED:20241229T094202Z
LAST-MODIFIED:20241229T094202Z
UID:8352-1766172600-1766178000@rctoronto.org
SUMMARY:Campus Devotional
DESCRIPTION:
URL:https://rctoronto.org/event-calendar/campus-devotional-40/
CATEGORIES:Devotionals
END:VEVENT
BEGIN:VEVENT
DTSTART;TZID=America/Toronto:20251205T193000
DTEND;TZID=America/Toronto:20251205T210000
DTSTAMP:20260426T000116
CREATED:20241229T093616Z
LAST-MODIFIED:20241229T093616Z
UID:8337-1764963000-1764968400@rctoronto.org
SUMMARY:Campus Devotional
DESCRIPTION:
URL:https://rctoronto.org/event-calendar/campus-devotional-39/
CATEGORIES:Devotionals
END:VEVENT
BEGIN:VEVENT
DTSTART;TZID=America/Toronto:20251128T193000
DTEND;TZID=America/Toronto:20251128T210000
DTSTAMP:20260426T000116
CREATED:20241229T093417Z
LAST-MODIFIED:20241229T093417Z
UID:8329-1764358200-1764363600@rctoronto.org
SUMMARY:Campus Devotional
DESCRIPTION:
URL:https://rctoronto.org/event-calendar/campus-devotional-38/
CATEGORIES:Devotionals
END:VEVENT
BEGIN:VEVENT
DTSTART;TZID=America/Toronto:20251121T193000
DTEND;TZID=America/Toronto:20251121T210000
DTSTAMP:20260426T000116
CREATED:20241229T093240Z
LAST-MODIFIED:20241229T093240Z
UID:8323-1763753400-1763758800@rctoronto.org
SUMMARY:Campus Devotional
DESCRIPTION:
URL:https://rctoronto.org/event-calendar/campus-devotional-37/
CATEGORIES:Devotionals
END:VEVENT
BEGIN:VEVENT
DTSTART;TZID=America/Toronto:20251114T193000
DTEND;TZID=America/Toronto:20251114T210000
DTSTAMP:20260426T000116
CREATED:20241229T093119Z
LAST-MODIFIED:20241229T093119Z
UID:8317-1763148600-1763154000@rctoronto.org
SUMMARY:Campus Devotional
DESCRIPTION:
URL:https://rctoronto.org/event-calendar/campus-devotional-36/
CATEGORIES:Devotionals
END:VEVENT
BEGIN:VEVENT
DTSTART;TZID=America/Toronto:20251107T193000
DTEND;TZID=America/Toronto:20251107T210000
DTSTAMP:20260426T000116
CREATED:20241229T092923Z
LAST-MODIFIED:20241229T092923Z
UID:8309-1762543800-1762549200@rctoronto.org
SUMMARY:Campus Devotional
DESCRIPTION:
URL:https://rctoronto.org/event-calendar/campus-devotional-35/
CATEGORIES:Devotionals
END:VEVENT
BEGIN:VEVENT
DTSTART;TZID=America/Toronto:20251031T193000
DTEND;TZID=America/Toronto:20251031T210000
DTSTAMP:20260426T000116
CREATED:20241229T092706Z
LAST-MODIFIED:20241229T092706Z
UID:8301-1761939000-1761944400@rctoronto.org
SUMMARY:Campus & Singles Costume Party
DESCRIPTION:
URL:https://rctoronto.org/event-calendar/campus-singles-costume-party/
CATEGORIES:Devotionals
END:VEVENT
BEGIN:VEVENT
DTSTART;TZID=America/Toronto:20251024T193000
DTEND;TZID=America/Toronto:20251024T210000
DTSTAMP:20260426T000116
CREATED:20241229T092437Z
LAST-MODIFIED:20241229T092437Z
UID:8291-1761334200-1761339600@rctoronto.org
SUMMARY:Congregational Giving Devotional (Pledge Drive Begins)
DESCRIPTION:
URL:https://rctoronto.org/event-calendar/congregational-giving-devotional-pledge-drive-begins/
CATEGORIES:Devotionals
END:VEVENT
BEGIN:VEVENT
DTSTART;TZID=America/Toronto:20251017T193000
DTEND;TZID=America/Toronto:20251017T210000
DTSTAMP:20260426T000116
CREATED:20241229T092117Z
LAST-MODIFIED:20241229T092117Z
UID:8282-1760729400-1760734800@rctoronto.org
SUMMARY:Campus Devotional
DESCRIPTION:
URL:https://rctoronto.org/event-calendar/campus-devotional-34/
CATEGORIES:Devotionals
END:VEVENT
BEGIN:VEVENT
DTSTART;TZID=America/Toronto:20251010T193000
DTEND;TZID=America/Toronto:20251010T210000
DTSTAMP:20260426T000116
CREATED:20241229T091842Z
LAST-MODIFIED:20241229T091842Z
UID:8273-1760124600-1760130000@rctoronto.org
SUMMARY:Campus Devotional
DESCRIPTION:
URL:https://rctoronto.org/event-calendar/campus-devotional-33/
CATEGORIES:Devotionals
END:VEVENT
BEGIN:VEVENT
DTSTART;TZID=America/Toronto:20251003T193000
DTEND;TZID=America/Toronto:20251003T210000
DTSTAMP:20260426T000116
CREATED:20241229T091622Z
LAST-MODIFIED:20241229T091622Z
UID:8267-1759519800-1759525200@rctoronto.org
SUMMARY:Campus Devotional
DESCRIPTION:
URL:https://rctoronto.org/event-calendar/campus-devotional-32/
CATEGORIES:Devotionals
END:VEVENT
BEGIN:VEVENT
DTSTART;TZID=America/Toronto:20250926T193000
DTEND;TZID=America/Toronto:20250926T210000
DTSTAMP:20260426T000116
CREATED:20241229T090824Z
LAST-MODIFIED:20241229T090824Z
UID:8255-1758915000-1758920400@rctoronto.org
SUMMARY:Campus Devotional
DESCRIPTION:
URL:https://rctoronto.org/event-calendar/campus-devotional-31/
CATEGORIES:Devotionals
END:VEVENT
BEGIN:VEVENT
DTSTART;TZID=America/Toronto:20250926T193000
DTEND;TZID=America/Toronto:20250926T210000
DTSTAMP:20260426T000116
CREATED:20241229T090758Z
LAST-MODIFIED:20241229T090758Z
UID:8253-1758915000-1758920400@rctoronto.org
SUMMARY:Singles Devotional
DESCRIPTION:
URL:https://rctoronto.org/event-calendar/singles-devotional-9/
CATEGORIES:Devotionals
END:VEVENT
BEGIN:VEVENT
DTSTART;TZID=America/Toronto:20250919T193000
DTEND;TZID=America/Toronto:20250919T210000
DTSTAMP:20260426T000116
CREATED:20241229T090616Z
LAST-MODIFIED:20241229T090616Z
UID:8247-1758310200-1758315600@rctoronto.org
SUMMARY:Campus Devotional
DESCRIPTION:
URL:https://rctoronto.org/event-calendar/campus-devotional-30/
CATEGORIES:Devotionals
END:VEVENT
BEGIN:VEVENT
DTSTART;TZID=America/Toronto:20250912T193000
DTEND;TZID=America/Toronto:20250912T210000
DTSTAMP:20260426T000116
CREATED:20241229T090046Z
LAST-MODIFIED:20241229T090046Z
UID:8236-1757705400-1757710800@rctoronto.org
SUMMARY:Back-to-School Dance
DESCRIPTION:
URL:https://rctoronto.org/event-calendar/back-to-school-dance/
CATEGORIES:Devotionals
END:VEVENT
BEGIN:VEVENT
DTSTART;TZID=America/Toronto:20250905T193000
DTEND;TZID=America/Toronto:20250905T210000
DTSTAMP:20260426T000116
CREATED:20241229T085905Z
LAST-MODIFIED:20241229T085905Z
UID:8229-1757100600-1757106000@rctoronto.org
SUMMARY:Campus Devotional
DESCRIPTION:
URL:https://rctoronto.org/event-calendar/campus-devotional-29/
CATEGORIES:Devotionals
END:VEVENT
BEGIN:VEVENT
DTSTART;TZID=America/Toronto:20250829T193000
DTEND;TZID=America/Toronto:20250829T210000
DTSTAMP:20260426T000116
CREATED:20241229T085516Z
LAST-MODIFIED:20241229T085516Z
UID:8219-1756495800-1756501200@rctoronto.org
SUMMARY:Campus Devotional
DESCRIPTION:
URL:https://rctoronto.org/event-calendar/campus-devotional-28/
CATEGORIES:Devotionals
END:VEVENT
BEGIN:VEVENT
DTSTART;TZID=America/Toronto:20250829T193000
DTEND;TZID=America/Toronto:20250829T210000
DTSTAMP:20260426T000116
CREATED:20241229T085447Z
LAST-MODIFIED:20241229T085447Z
UID:8217-1756495800-1756501200@rctoronto.org
SUMMARY:Singles Devotional
DESCRIPTION:
URL:https://rctoronto.org/event-calendar/singles-devotional-8/
CATEGORIES:Devotionals
END:VEVENT
BEGIN:VEVENT
DTSTART;TZID=America/Toronto:20250822T193000
DTEND;TZID=America/Toronto:20250822T210000
DTSTAMP:20260426T000116
CREATED:20241229T085307Z
LAST-MODIFIED:20241229T085307Z
UID:8211-1755891000-1755896400@rctoronto.org
SUMMARY:Campus Devotional
DESCRIPTION:
URL:https://rctoronto.org/event-calendar/campus-devotional-27/
CATEGORIES:Devotionals
END:VEVENT
BEGIN:VEVENT
DTSTART;TZID=America/Toronto:20250815T193000
DTEND;TZID=America/Toronto:20250815T210000
DTSTAMP:20260426T000116
CREATED:20241229T085113Z
LAST-MODIFIED:20241229T085113Z
UID:8204-1755286200-1755291600@rctoronto.org
SUMMARY:Campus Devotional
DESCRIPTION:
URL:https://rctoronto.org/event-calendar/campus-devotional-26/
CATEGORIES:Devotionals
END:VEVENT
BEGIN:VEVENT
DTSTART;TZID=America/Toronto:20250808T193000
DTEND;TZID=America/Toronto:20250808T210000
DTSTAMP:20260426T000116
CREATED:20241229T084407Z
LAST-MODIFIED:20241229T084407Z
UID:8197-1754681400-1754686800@rctoronto.org
SUMMARY:Congregational Discipling Devotional
DESCRIPTION:
URL:https://rctoronto.org/event-calendar/congregational-discipling-devotional/
CATEGORIES:Devotionals
END:VEVENT
BEGIN:VEVENT
DTSTART;TZID=America/Toronto:20250801T193000
DTEND;TZID=America/Toronto:20250801T210000
DTSTAMP:20260426T000116
CREATED:20241229T084039Z
LAST-MODIFIED:20241229T084039Z
UID:8187-1754076600-1754082000@rctoronto.org
SUMMARY:Campus Devotional
DESCRIPTION:
URL:https://rctoronto.org/event-calendar/campus-devotional-25/
CATEGORIES:Devotionals
END:VEVENT
BEGIN:VEVENT
DTSTART;TZID=America/Toronto:20250725T193000
DTEND;TZID=America/Toronto:20250725T210000
DTSTAMP:20260426T000116
CREATED:20241228T182511Z
LAST-MODIFIED:20241228T182511Z
UID:8167-1753471800-1753477200@rctoronto.org
SUMMARY:Campus Devotional
DESCRIPTION:
URL:https://rctoronto.org/event-calendar/campus-devotional-24/
CATEGORIES:Devotionals
END:VEVENT
BEGIN:VEVENT
DTSTART;TZID=America/Toronto:20250725T193000
DTEND;TZID=America/Toronto:20250725T210000
DTSTAMP:20260426T000116
CREATED:20241228T182449Z
LAST-MODIFIED:20241228T182449Z
UID:8165-1753471800-1753477200@rctoronto.org
SUMMARY:Singles Devotional
DESCRIPTION:
URL:https://rctoronto.org/event-calendar/singles-devotional-7/
CATEGORIES:Devotionals
END:VEVENT
BEGIN:VEVENT
DTSTART;TZID=America/Toronto:20250718T193000
DTEND;TZID=America/Toronto:20250718T210000
DTSTAMP:20260426T000116
CREATED:20241228T182159Z
LAST-MODIFIED:20241228T182159Z
UID:8155-1752867000-1752872400@rctoronto.org
SUMMARY:Campus Devotional
DESCRIPTION:
URL:https://rctoronto.org/event-calendar/campus-devotional-23/
CATEGORIES:Devotionals
END:VEVENT
BEGIN:VEVENT
DTSTART;TZID=America/Toronto:20250711T193000
DTEND;TZID=America/Toronto:20250711T210000
DTSTAMP:20260426T000116
CREATED:20241228T182001Z
LAST-MODIFIED:20241228T182001Z
UID:8147-1752262200-1752267600@rctoronto.org
SUMMARY:Campus Devotional
DESCRIPTION:
URL:https://rctoronto.org/event-calendar/campus-devotional-22/
CATEGORIES:Devotionals
END:VEVENT
BEGIN:VEVENT
DTSTART;TZID=America/Toronto:20250704T193000
DTEND;TZID=America/Toronto:20250704T210000
DTSTAMP:20260426T000116
CREATED:20241228T181805Z
LAST-MODIFIED:20241228T181805Z
UID:8139-1751657400-1751662800@rctoronto.org
SUMMARY:Campus Devotional
DESCRIPTION:
URL:https://rctoronto.org/event-calendar/campus-devotional-21/
CATEGORIES:Devotionals
END:VEVENT
BEGIN:VEVENT
DTSTART;TZID=America/Toronto:20250627T193000
DTEND;TZID=America/Toronto:20250627T210000
DTSTAMP:20260426T000116
CREATED:20241228T180238Z
LAST-MODIFIED:20241228T180238Z
UID:8129-1751052600-1751058000@rctoronto.org
SUMMARY:Campus Devotional
DESCRIPTION:
URL:https://rctoronto.org/event-calendar/campus-devotional-20/
CATEGORIES:Devotionals
END:VEVENT
BEGIN:VEVENT
DTSTART;TZID=America/Toronto:20250627T193000
DTEND;TZID=America/Toronto:20250627T210000
DTSTAMP:20260426T000116
CREATED:20241228T180210Z
LAST-MODIFIED:20241228T180210Z
UID:8127-1751052600-1751058000@rctoronto.org
SUMMARY:Singles Devotional
DESCRIPTION:
URL:https://rctoronto.org/event-calendar/singles-devotional-6/
CATEGORIES:Devotionals
END:VEVENT
BEGIN:VEVENT
DTSTART;TZID=America/Toronto:20250620T193000
DTEND;TZID=America/Toronto:20250620T210000
DTSTAMP:20260426T000116
CREATED:20241228T175943Z
LAST-MODIFIED:20241228T175943Z
UID:8119-1750447800-1750453200@rctoronto.org
SUMMARY:Campus Devotional
DESCRIPTION:
URL:https://rctoronto.org/event-calendar/campus-devotional-19/
CATEGORIES:Devotionals
END:VEVENT
END:VCALENDAR