BEGIN:VCALENDAR
VERSION:2.0
PRODID:-//Restored Church Toronto - ECPv6.15.20//NONSGML v1.0//EN
CALSCALE:GREGORIAN
METHOD:PUBLISH
X-WR-CALNAME:Restored Church Toronto
X-ORIGINAL-URL:https://rctoronto.org
X-WR-CALDESC:Events for Restored Church Toronto
REFRESH-INTERVAL;VALUE=DURATION:PT1H
X-Robots-Tag:noindex
X-PUBLISHED-TTL:PT1H
BEGIN:VTIMEZONE
TZID:America/Toronto
BEGIN:DAYLIGHT
TZOFFSETFROM:-0500
TZOFFSETTO:-0400
TZNAME:EDT
DTSTART:20230312T070000
END:DAYLIGHT
BEGIN:STANDARD
TZOFFSETFROM:-0400
TZOFFSETTO:-0500
TZNAME:EST
DTSTART:20231105T060000
END:STANDARD
BEGIN:DAYLIGHT
TZOFFSETFROM:-0500
TZOFFSETTO:-0400
TZNAME:EDT
DTSTART:20240310T070000
END:DAYLIGHT
BEGIN:STANDARD
TZOFFSETFROM:-0400
TZOFFSETTO:-0500
TZNAME:EST
DTSTART:20241103T060000
END:STANDARD
BEGIN:DAYLIGHT
TZOFFSETFROM:-0500
TZOFFSETTO:-0400
TZNAME:EDT
DTSTART:20250309T070000
END:DAYLIGHT
BEGIN:STANDARD
TZOFFSETFROM:-0400
TZOFFSETTO:-0500
TZNAME:EST
DTSTART:20251102T060000
END:STANDARD
BEGIN:DAYLIGHT
TZOFFSETFROM:-0500
TZOFFSETTO:-0400
TZNAME:EDT
DTSTART:20260308T070000
END:DAYLIGHT
BEGIN:STANDARD
TZOFFSETFROM:-0400
TZOFFSETTO:-0500
TZNAME:EST
DTSTART:20261101T060000
END:STANDARD
END:VTIMEZONE
BEGIN:VEVENT
DTSTART;TZID=America/Toronto:20250202T100000
DTEND;TZID=America/Toronto:20250202T130000
DTSTAMP:20260426T002057
CREATED:20241227T195713Z
LAST-MODIFIED:20241227T195713Z
UID:7931-1738490400-1738501200@rctoronto.org
SUMMARY:Regional Sunday Services
DESCRIPTION:Regional Sunday Worship Services
URL:https://rctoronto.org/event-calendar/regional-sunday-services-2/
LOCATION:Pinecrest Event Centre\, 17 Vinyl Ct\, Woodbridge\, Ontario\, L4L 4A3\, Canada
CATEGORIES:Sunday Services
END:VEVENT
BEGIN:VEVENT
DTSTART;TZID=America/Toronto:20250131T193000
DTEND;TZID=America/Toronto:20250131T210000
DTSTAMP:20260426T002057
CREATED:20241227T195136Z
LAST-MODIFIED:20241227T195136Z
UID:7927-1738351800-1738357200@rctoronto.org
SUMMARY:Campus Devotional
DESCRIPTION:
URL:https://rctoronto.org/event-calendar/campus-devotional-3/
CATEGORIES:Devotionals
END:VEVENT
BEGIN:VEVENT
DTSTART;TZID=America/Toronto:20250129T193000
DTEND;TZID=America/Toronto:20250129T210000
DTSTAMP:20260426T002057
CREATED:20241227T195057Z
LAST-MODIFIED:20241227T195057Z
UID:7925-1738179000-1738184400@rctoronto.org
SUMMARY:Men's Midweek
DESCRIPTION:
URL:https://rctoronto.org/event-calendar/mens-midweek-2/
CATEGORIES:Midweek Services
END:VEVENT
BEGIN:VEVENT
DTSTART;TZID=America/Toronto:20250126T100000
DTEND;TZID=America/Toronto:20250126T130000
DTSTAMP:20260426T002057
CREATED:20241227T195007Z
LAST-MODIFIED:20241227T195020Z
UID:7922-1737885600-1737896400@rctoronto.org
SUMMARY:Regional Sunday Services
DESCRIPTION:Regional Sunday Worship Services
URL:https://rctoronto.org/event-calendar/regional-sunday-services/
LOCATION:Pinecrest Event Centre\, 17 Vinyl Ct\, Woodbridge\, Ontario\, L4L 4A3\, Canada
CATEGORIES:Sunday Services
END:VEVENT
BEGIN:VEVENT
DTSTART;TZID=America/Toronto:20250125T090000
DTEND;TZID=America/Toronto:20250125T130000
DTSTAMP:20260426T002057
CREATED:20241227T194924Z
LAST-MODIFIED:20241227T194924Z
UID:7920-1737795600-1737810000@rctoronto.org
SUMMARY:RCMS Session (First Class of Semester)
DESCRIPTION:
URL:https://rctoronto.org/event-calendar/rcms-session-first-class-of-semester/
CATEGORIES:RCMS
END:VEVENT
BEGIN:VEVENT
DTSTART;TZID=America/Toronto:20250124T193000
DTEND;TZID=America/Toronto:20250124T210000
DTSTAMP:20260426T002057
CREATED:20241227T194753Z
LAST-MODIFIED:20241227T194802Z
UID:7917-1737747000-1737752400@rctoronto.org
SUMMARY:Campus Devotional
DESCRIPTION:
URL:https://rctoronto.org/event-calendar/campus-devotional-copy/
CATEGORIES:Devotionals
END:VEVENT
BEGIN:VEVENT
DTSTART;TZID=America/Toronto:20250122T193000
DTEND;TZID=America/Toronto:20250122T210000
DTSTAMP:20260426T002057
CREATED:20241227T194726Z
LAST-MODIFIED:20241227T194726Z
UID:7915-1737574200-1737579600@rctoronto.org
SUMMARY:Women's Midweek
DESCRIPTION:
URL:https://rctoronto.org/event-calendar/womens-midweek-2/
CATEGORIES:Midweek Services
END:VEVENT
BEGIN:VEVENT
DTSTART;TZID=America/Toronto:20250119T100000
DTEND;TZID=America/Toronto:20250119T130000
DTSTAMP:20260426T002057
CREATED:20241227T194643Z
LAST-MODIFIED:20241228T174529Z
UID:7913-1737280800-1737291600@rctoronto.org
SUMMARY:Congregational Sunday Service
DESCRIPTION:Congregational Worship Service
URL:https://rctoronto.org/event-calendar/congregational-sunday-service-3/
CATEGORIES:Sunday Services
END:VEVENT
BEGIN:VEVENT
DTSTART;TZID=America/Toronto:20250117T193000
DTEND;TZID=America/Toronto:20250117T210000
DTSTAMP:20260426T002057
CREATED:20241227T194428Z
LAST-MODIFIED:20241227T194428Z
UID:7909-1737142200-1737147600@rctoronto.org
SUMMARY:Campus Devotional
DESCRIPTION:
URL:https://rctoronto.org/event-calendar/campus-devotional-2/
CATEGORIES:Devotionals
END:VEVENT
BEGIN:VEVENT
DTSTART;TZID=America/Toronto:20250115T193000
DTEND;TZID=America/Toronto:20250115T210000
DTSTAMP:20260426T002057
CREATED:20241227T194318Z
LAST-MODIFIED:20241227T194318Z
UID:7907-1736969400-1736974800@rctoronto.org
SUMMARY:Men's Midweek
DESCRIPTION:
URL:https://rctoronto.org/event-calendar/mens-midweek/
CATEGORIES:Midweek Services
END:VEVENT
BEGIN:VEVENT
DTSTART;TZID=America/Toronto:20250112T100000
DTEND;TZID=America/Toronto:20250112T130000
DTSTAMP:20260426T002057
CREATED:20241227T194548Z
LAST-MODIFIED:20241228T174536Z
UID:7911-1736676000-1736686800@rctoronto.org
SUMMARY:Congregational Sunday Service
DESCRIPTION:Congregational Worship Service
URL:https://rctoronto.org/event-calendar/congregational-sunday-service-2/
CATEGORIES:Sunday Services
END:VEVENT
BEGIN:VEVENT
DTSTART;TZID=America/Toronto:20250110T193000
DTEND;TZID=America/Toronto:20250110T210000
DTSTAMP:20260426T002057
CREATED:20241227T194216Z
LAST-MODIFIED:20241227T194216Z
UID:7905-1736537400-1736542800@rctoronto.org
SUMMARY:Campus Devotional
DESCRIPTION:
URL:https://rctoronto.org/event-calendar/campus-devotional/
CATEGORIES:Devotionals
END:VEVENT
BEGIN:VEVENT
DTSTART;TZID=America/Toronto:20250108T193000
DTEND;TZID=America/Toronto:20250108T210000
DTSTAMP:20260426T002057
CREATED:20241227T194055Z
LAST-MODIFIED:20241227T194055Z
UID:7903-1736364600-1736370000@rctoronto.org
SUMMARY:Women's Midweek
DESCRIPTION:
URL:https://rctoronto.org/event-calendar/womens-midweek/
CATEGORIES:Midweek Services
END:VEVENT
BEGIN:VEVENT
DTSTART;VALUE=DATE:20250101
DTEND;VALUE=DATE:20250102
DTSTAMP:20260426T002057
CREATED:20241227T191753Z
LAST-MODIFIED:20241227T191753Z
UID:7898-1735689600-1735775999@rctoronto.org
SUMMARY:New Years Day
DESCRIPTION:
URL:https://rctoronto.org/event-calendar/new-years-day/
CATEGORIES:National Holidays
END:VEVENT
BEGIN:VEVENT
DTSTART;TZID=America/Toronto:20241229T100000
DTEND;TZID=America/Toronto:20241229T130000
DTSTAMP:20260426T002057
CREATED:20241223T003504Z
LAST-MODIFIED:20241223T004756Z
UID:6419-1735466400-1735477200@rctoronto.org
SUMMARY:Congregational Sunday Service
DESCRIPTION:Congregational Worship Service
URL:https://rctoronto.org/event-calendar/congregational-sunday-service/
LOCATION:Pinecrest Event Centre\, 17 Vinyl Ct\, Woodbridge\, Ontario\, L4L 4A3\, Canada
CATEGORIES:Sunday Services
END:VEVENT
END:VCALENDAR