BEGIN:VCALENDAR
VERSION:2.0
PRODID:-//Restored Church Toronto - ECPv6.15.20//NONSGML v1.0//EN
CALSCALE:GREGORIAN
METHOD:PUBLISH
X-ORIGINAL-URL:https://rctoronto.org
X-WR-CALDESC:Events for Restored Church Toronto
REFRESH-INTERVAL;VALUE=DURATION:PT1H
X-Robots-Tag:noindex
X-PUBLISHED-TTL:PT1H
BEGIN:VTIMEZONE
TZID:America/Toronto
BEGIN:DAYLIGHT
TZOFFSETFROM:-0500
TZOFFSETTO:-0400
TZNAME:EDT
DTSTART:20240310T070000
END:DAYLIGHT
BEGIN:STANDARD
TZOFFSETFROM:-0400
TZOFFSETTO:-0500
TZNAME:EST
DTSTART:20241103T060000
END:STANDARD
BEGIN:DAYLIGHT
TZOFFSETFROM:-0500
TZOFFSETTO:-0400
TZNAME:EDT
DTSTART:20250309T070000
END:DAYLIGHT
BEGIN:STANDARD
TZOFFSETFROM:-0400
TZOFFSETTO:-0500
TZNAME:EST
DTSTART:20251102T060000
END:STANDARD
BEGIN:DAYLIGHT
TZOFFSETFROM:-0500
TZOFFSETTO:-0400
TZNAME:EDT
DTSTART:20260308T070000
END:DAYLIGHT
BEGIN:STANDARD
TZOFFSETFROM:-0400
TZOFFSETTO:-0500
TZNAME:EST
DTSTART:20261101T060000
END:STANDARD
END:VTIMEZONE
BEGIN:VEVENT
DTSTART;TZID=America/Toronto:20250420T100000
DTEND;TZID=America/Toronto:20250420T130000
DTSTAMP:20260425T225048
CREATED:20241228T161148Z
LAST-MODIFIED:20250113T234123Z
UID:8078-1745143200-1745154000@rctoronto.org
SUMMARY:Easter Worship Service
DESCRIPTION:
URL:https://rctoronto.org/event-calendar/easter-worship-service/
CATEGORIES:Featured Event,Sunday Services
END:VEVENT
BEGIN:VEVENT
DTSTART;VALUE=DATE:20250421
DTEND;VALUE=DATE:20250422
DTSTAMP:20260425T225048
CREATED:20241227T205147Z
LAST-MODIFIED:20241227T205147Z
UID:8020-1745193600-1745279999@rctoronto.org
SUMMARY:Easter Monday
DESCRIPTION:
URL:https://rctoronto.org/event-calendar/easter-monday/
CATEGORIES:National Holidays
END:VEVENT
BEGIN:VEVENT
DTSTART;TZID=America/Toronto:20250423T193000
DTEND;TZID=America/Toronto:20250423T210000
DTSTAMP:20260425T225048
CREATED:20241227T204100Z
LAST-MODIFIED:20241227T205218Z
UID:8010-1745436600-1745442000@rctoronto.org
SUMMARY:Men's Midweek
DESCRIPTION:
URL:https://rctoronto.org/event-calendar/mens-midweek-6/
CATEGORIES:Midweek Services
END:VEVENT
BEGIN:VEVENT
DTSTART;TZID=America/Toronto:20250425T193000
DTEND;TZID=America/Toronto:20250425T210000
DTSTAMP:20260425T225048
CREATED:20241227T205342Z
LAST-MODIFIED:20241227T205342Z
UID:8022-1745609400-1745614800@rctoronto.org
SUMMARY:Singles Devotional
DESCRIPTION:
URL:https://rctoronto.org/event-calendar/singles-devotional-4/
CATEGORIES:Devotionals
END:VEVENT
BEGIN:VEVENT
DTSTART;TZID=America/Toronto:20250425T193000
DTEND;TZID=America/Toronto:20250425T210000
DTSTAMP:20260425T225048
CREATED:20241227T205407Z
LAST-MODIFIED:20241227T205407Z
UID:8024-1745609400-1745614800@rctoronto.org
SUMMARY:Campus Devotional
DESCRIPTION:
URL:https://rctoronto.org/event-calendar/campus-devotional-12/
CATEGORIES:Devotionals
END:VEVENT
BEGIN:VEVENT
DTSTART;TZID=America/Toronto:20250426T090000
DTEND;TZID=America/Toronto:20250426T130000
DTSTAMP:20260425T225048
CREATED:20241227T205438Z
LAST-MODIFIED:20241227T205438Z
UID:8026-1745658000-1745672400@rctoronto.org
SUMMARY:RCMS Session
DESCRIPTION:
URL:https://rctoronto.org/event-calendar/rcms-session-3/
CATEGORIES:RCMS
END:VEVENT
BEGIN:VEVENT
DTSTART;TZID=America/Toronto:20250427T100000
DTEND;TZID=America/Toronto:20250427T130000
DTSTAMP:20260425T225048
CREATED:20241227T205507Z
LAST-MODIFIED:20241227T205507Z
UID:8028-1745748000-1745758800@rctoronto.org
SUMMARY:Regional Sunday Services
DESCRIPTION:Regional Sunday Worship Services
URL:https://rctoronto.org/event-calendar/regional-sunday-services-9/
LOCATION:Pinecrest Event Centre\, 17 Vinyl Ct\, Woodbridge\, Ontario\, L4L 4A3\, Canada
CATEGORIES:Sunday Services
END:VEVENT
BEGIN:VEVENT
DTSTART;TZID=America/Toronto:20250430T193000
DTEND;TZID=America/Toronto:20250430T210000
DTSTAMP:20260425T225048
CREATED:20241227T205603Z
LAST-MODIFIED:20241227T205603Z
UID:8030-1746041400-1746046800@rctoronto.org
SUMMARY:Women's Midweek
DESCRIPTION:
URL:https://rctoronto.org/event-calendar/womens-midweek-8/
CATEGORIES:Midweek Services
END:VEVENT
BEGIN:VEVENT
DTSTART;TZID=America/Toronto:20250502T193000
DTEND;TZID=America/Toronto:20250502T210000
DTSTAMP:20260425T225048
CREATED:20241228T162202Z
LAST-MODIFIED:20241228T162202Z
UID:8046-1746214200-1746219600@rctoronto.org
SUMMARY:Campus Devotional
DESCRIPTION:
URL:https://rctoronto.org/event-calendar/campus-devotional-13/
CATEGORIES:Devotionals
END:VEVENT
BEGIN:VEVENT
DTSTART;TZID=America/Toronto:20250504T100000
DTEND;TZID=America/Toronto:20250504T130000
DTSTAMP:20260425T225048
CREATED:20241228T162253Z
LAST-MODIFIED:20241228T162253Z
UID:8048-1746352800-1746363600@rctoronto.org
SUMMARY:Regional Sunday Services
DESCRIPTION:Regional Sunday Worship Services
URL:https://rctoronto.org/event-calendar/regional-sunday-services-10/
LOCATION:Pinecrest Event Centre\, 17 Vinyl Ct\, Woodbridge\, Ontario\, L4L 4A3\, Canada
CATEGORIES:Sunday Services
END:VEVENT
BEGIN:VEVENT
DTSTART;TZID=America/Toronto:20250507T193000
DTEND;TZID=America/Toronto:20250507T210000
DTSTAMP:20260425T225048
CREATED:20241228T162329Z
LAST-MODIFIED:20241228T162346Z
UID:8050-1746646200-1746651600@rctoronto.org
SUMMARY:Men's Midweek
DESCRIPTION:
URL:https://rctoronto.org/event-calendar/mens-midweek-copy-2/
CATEGORIES:Midweek Services
END:VEVENT
BEGIN:VEVENT
DTSTART;TZID=America/Toronto:20250509T193000
DTEND;TZID=America/Toronto:20250509T210000
DTSTAMP:20260425T225048
CREATED:20241228T162414Z
LAST-MODIFIED:20241228T162414Z
UID:8053-1746819000-1746824400@rctoronto.org
SUMMARY:Campus Devotional
DESCRIPTION:
URL:https://rctoronto.org/event-calendar/campus-devotional-14/
CATEGORIES:Devotionals
END:VEVENT
BEGIN:VEVENT
DTSTART;TZID=America/Toronto:20250509T193000
DTEND;TZID=America/Toronto:20250509T210000
DTSTAMP:20260425T225048
CREATED:20241228T162825Z
LAST-MODIFIED:20241228T162825Z
UID:8059-1746819000-1746824400@rctoronto.org
SUMMARY:Married's/Mature Singles Devotional
DESCRIPTION:
URL:https://rctoronto.org/event-calendar/marrieds-mature-singles-devotional/
CATEGORIES:Devotionals
END:VEVENT
BEGIN:VEVENT
DTSTART;VALUE=DATE:20250511
DTEND;VALUE=DATE:20250512
DTSTAMP:20260425T225048
CREATED:20241228T162707Z
LAST-MODIFIED:20241228T162707Z
UID:8057-1746921600-1747007999@rctoronto.org
SUMMARY:Mother's Day
DESCRIPTION:
URL:https://rctoronto.org/event-calendar/mothers-day/
CATEGORIES:National Holidays
END:VEVENT
BEGIN:VEVENT
DTSTART;TZID=America/Toronto:20250511T100000
DTEND;TZID=America/Toronto:20250511T130000
DTSTAMP:20260425T225048
CREATED:20241228T162953Z
LAST-MODIFIED:20241228T162953Z
UID:8061-1746957600-1746968400@rctoronto.org
SUMMARY:Regional Sunday Services
DESCRIPTION:Regional Sunday Worship Services
URL:https://rctoronto.org/event-calendar/regional-sunday-services-11/
LOCATION:Pinecrest Event Centre\, 17 Vinyl Ct\, Woodbridge\, Ontario\, L4L 4A3\, Canada
CATEGORIES:Sunday Services
END:VEVENT
BEGIN:VEVENT
DTSTART;TZID=America/Toronto:20250514T193000
DTEND;TZID=America/Toronto:20250514T210000
DTSTAMP:20260425T225048
CREATED:20241228T163022Z
LAST-MODIFIED:20241228T163022Z
UID:8063-1747251000-1747256400@rctoronto.org
SUMMARY:Women's Midweek
DESCRIPTION:
URL:https://rctoronto.org/event-calendar/womens-midweek-9/
CATEGORIES:Midweek Services
END:VEVENT
BEGIN:VEVENT
DTSTART;TZID=America/Toronto:20250516T193000
DTEND;TZID=America/Toronto:20250516T210000
DTSTAMP:20260425T225048
CREATED:20241228T163052Z
LAST-MODIFIED:20241228T174144Z
UID:8065-1747423800-1747429200@rctoronto.org
SUMMARY:Campus Devotional
DESCRIPTION:
URL:https://rctoronto.org/event-calendar/campus-devotional-15/
CATEGORIES:Devotionals
END:VEVENT
BEGIN:VEVENT
DTSTART;TZID=America/Toronto:20250518T100000
DTEND;TZID=America/Toronto:20250518T130000
DTSTAMP:20260425T225048
CREATED:20241228T163143Z
LAST-MODIFIED:20241229T090322Z
UID:8067-1747562400-1747573200@rctoronto.org
SUMMARY:Missions Sunday/International Service (Missions Due)
DESCRIPTION:
URL:https://rctoronto.org/event-calendar/missions-sunday-international-service-missions-due/
CATEGORIES:Featured Event,Sunday Services
END:VEVENT
BEGIN:VEVENT
DTSTART;VALUE=DATE:20250519
DTEND;VALUE=DATE:20250520
DTSTAMP:20260425T225048
CREATED:20241228T173811Z
LAST-MODIFIED:20241228T173811Z
UID:8080-1747612800-1747699199@rctoronto.org
SUMMARY:Victoria Day
DESCRIPTION:
URL:https://rctoronto.org/event-calendar/victoria-day/
CATEGORIES:National Holidays
END:VEVENT
BEGIN:VEVENT
DTSTART;TZID=America/Toronto:20250521T193000
DTEND;TZID=America/Toronto:20250521T210000
DTSTAMP:20260425T225048
CREATED:20241228T173948Z
LAST-MODIFIED:20241228T173948Z
UID:8082-1747855800-1747861200@rctoronto.org
SUMMARY:Men's Midweek
DESCRIPTION:
URL:https://rctoronto.org/event-calendar/mens-midweek-7/
CATEGORIES:Midweek Services
END:VEVENT
BEGIN:VEVENT
DTSTART;TZID=America/Toronto:20250523T193000
DTEND;TZID=America/Toronto:20250523T210000
DTSTAMP:20260425T225048
CREATED:20241228T174208Z
LAST-MODIFIED:20241228T174208Z
UID:8086-1748028600-1748034000@rctoronto.org
SUMMARY:Missions Celebration Dance
DESCRIPTION:
URL:https://rctoronto.org/event-calendar/missions-celebration-dance/
CATEGORIES:Devotionals
END:VEVENT
BEGIN:VEVENT
DTSTART;TZID=America/Toronto:20250525T100000
DTEND;TZID=America/Toronto:20250525T130000
DTSTAMP:20260425T225048
CREATED:20241228T174347Z
LAST-MODIFIED:20241228T174347Z
UID:8090-1748167200-1748178000@rctoronto.org
SUMMARY:Congregational Park Service
DESCRIPTION:Congregational Park Service
URL:https://rctoronto.org/event-calendar/congregational-park-service/
CATEGORIES:Sunday Services
END:VEVENT
BEGIN:VEVENT
DTSTART;TZID=America/Toronto:20250528T193000
DTEND;TZID=America/Toronto:20250528T210000
DTSTAMP:20260425T225048
CREATED:20241228T174611Z
LAST-MODIFIED:20241228T174646Z
UID:8092-1748460600-1748466000@rctoronto.org
SUMMARY:Women's Midweek
DESCRIPTION:
URL:https://rctoronto.org/event-calendar/womens-midweek-copy/
CATEGORIES:Midweek Services
END:VEVENT
BEGIN:VEVENT
DTSTART;TZID=America/Toronto:20250530T193000
DTEND;TZID=America/Toronto:20250530T210000
DTSTAMP:20260425T225048
CREATED:20241228T174704Z
LAST-MODIFIED:20241228T174704Z
UID:8094-1748633400-1748638800@rctoronto.org
SUMMARY:Campus Devotional
DESCRIPTION:
URL:https://rctoronto.org/event-calendar/campus-devotional-16/
CATEGORIES:Devotionals
END:VEVENT
BEGIN:VEVENT
DTSTART;TZID=America/Toronto:20250530T193000
DTEND;TZID=America/Toronto:20250530T210000
DTSTAMP:20260425T225048
CREATED:20241228T174802Z
LAST-MODIFIED:20241228T174802Z
UID:8097-1748633400-1748638800@rctoronto.org
SUMMARY:Singles Devotional
DESCRIPTION:
URL:https://rctoronto.org/event-calendar/singles-devotional-5/
CATEGORIES:Devotionals
END:VEVENT
BEGIN:VEVENT
DTSTART;TZID=America/Toronto:20250531T090000
DTEND;TZID=America/Toronto:20250531T130000
DTSTAMP:20260425T225048
CREATED:20241228T174830Z
LAST-MODIFIED:20241228T174830Z
UID:8099-1748682000-1748696400@rctoronto.org
SUMMARY:RCMS Session
DESCRIPTION:
URL:https://rctoronto.org/event-calendar/rcms-session-4/
CATEGORIES:RCMS
END:VEVENT
BEGIN:VEVENT
DTSTART;TZID=America/Toronto:20250601T100000
DTEND;TZID=America/Toronto:20250601T130000
DTSTAMP:20260425T225048
CREATED:20241228T175149Z
LAST-MODIFIED:20241228T175149Z
UID:8101-1748772000-1748782800@rctoronto.org
SUMMARY:Regional Sunday Services
DESCRIPTION:Regional Sunday Worship Services
URL:https://rctoronto.org/event-calendar/regional-sunday-services-12/
LOCATION:Pinecrest Event Centre\, 17 Vinyl Ct\, Woodbridge\, Ontario\, L4L 4A3\, Canada
CATEGORIES:Sunday Services
END:VEVENT
BEGIN:VEVENT
DTSTART;TZID=America/Toronto:20250604T193000
DTEND;TZID=America/Toronto:20250604T210000
DTSTAMP:20260425T225048
CREATED:20241228T175227Z
LAST-MODIFIED:20241228T175227Z
UID:8103-1749065400-1749070800@rctoronto.org
SUMMARY:Men's Midweek
DESCRIPTION:
URL:https://rctoronto.org/event-calendar/mens-midweek-8/
CATEGORIES:Midweek Services
END:VEVENT
BEGIN:VEVENT
DTSTART;TZID=America/Toronto:20250606T193000
DTEND;TZID=America/Toronto:20250606T210000
DTSTAMP:20260425T225048
CREATED:20241228T175259Z
LAST-MODIFIED:20241228T175259Z
UID:8105-1749238200-1749243600@rctoronto.org
SUMMARY:Campus Devotional
DESCRIPTION:
URL:https://rctoronto.org/event-calendar/campus-devotional-17/
CATEGORIES:Devotionals
END:VEVENT
BEGIN:VEVENT
DTSTART;TZID=America/Toronto:20250608T100000
DTEND;TZID=America/Toronto:20250608T130000
DTSTAMP:20260425T225048
CREATED:20241228T175321Z
LAST-MODIFIED:20241228T175321Z
UID:8107-1749376800-1749387600@rctoronto.org
SUMMARY:Regional Sunday Services
DESCRIPTION:Regional Sunday Worship Services
URL:https://rctoronto.org/event-calendar/regional-sunday-services-13/
LOCATION:Pinecrest Event Centre\, 17 Vinyl Ct\, Woodbridge\, Ontario\, L4L 4A3\, Canada
CATEGORIES:Sunday Services
END:VEVENT
END:VCALENDAR