BEGIN:VCALENDAR
VERSION:2.0
PRODID:-//Restored Church Toronto - ECPv6.15.20//NONSGML v1.0//EN
CALSCALE:GREGORIAN
METHOD:PUBLISH
X-WR-CALNAME:Restored Church Toronto
X-ORIGINAL-URL:https://rctoronto.org
X-WR-CALDESC:Events for Restored Church Toronto
REFRESH-INTERVAL;VALUE=DURATION:PT1H
X-Robots-Tag:noindex
X-PUBLISHED-TTL:PT1H
BEGIN:VTIMEZONE
TZID:America/Toronto
BEGIN:DAYLIGHT
TZOFFSETFROM:-0500
TZOFFSETTO:-0400
TZNAME:EDT
DTSTART:20240310T070000
END:DAYLIGHT
BEGIN:STANDARD
TZOFFSETFROM:-0400
TZOFFSETTO:-0500
TZNAME:EST
DTSTART:20241103T060000
END:STANDARD
BEGIN:DAYLIGHT
TZOFFSETFROM:-0500
TZOFFSETTO:-0400
TZNAME:EDT
DTSTART:20250309T070000
END:DAYLIGHT
BEGIN:STANDARD
TZOFFSETFROM:-0400
TZOFFSETTO:-0500
TZNAME:EST
DTSTART:20251102T060000
END:STANDARD
BEGIN:DAYLIGHT
TZOFFSETFROM:-0500
TZOFFSETTO:-0400
TZNAME:EDT
DTSTART:20260308T070000
END:DAYLIGHT
BEGIN:STANDARD
TZOFFSETFROM:-0400
TZOFFSETTO:-0500
TZNAME:EST
DTSTART:20261101T060000
END:STANDARD
END:VTIMEZONE
BEGIN:VEVENT
DTSTART;TZID=America/Toronto:20250917T193000
DTEND;TZID=America/Toronto:20250917T210000
DTSTAMP:20260425T115726
CREATED:20241229T090549Z
LAST-MODIFIED:20241229T090549Z
UID:8245-1758137400-1758142800@rctoronto.org
SUMMARY:Women's Midweek
DESCRIPTION:
URL:https://rctoronto.org/event-calendar/womens-midweek-14/
CATEGORIES:Midweek Services
END:VEVENT
BEGIN:VEVENT
DTSTART;TZID=America/Toronto:20250919T193000
DTEND;TZID=America/Toronto:20250919T210000
DTSTAMP:20260425T115726
CREATED:20241229T090616Z
LAST-MODIFIED:20241229T090616Z
UID:8247-1758310200-1758315600@rctoronto.org
SUMMARY:Campus Devotional
DESCRIPTION:
URL:https://rctoronto.org/event-calendar/campus-devotional-30/
CATEGORIES:Devotionals
END:VEVENT
BEGIN:VEVENT
DTSTART;TZID=America/Toronto:20250921T100000
DTEND;TZID=America/Toronto:20250921T130000
DTSTAMP:20260425T115726
CREATED:20241229T090650Z
LAST-MODIFIED:20241229T090650Z
UID:8249-1758448800-1758459600@rctoronto.org
SUMMARY:Regional Sunday Services
DESCRIPTION:Regional Sunday Worship Services
URL:https://rctoronto.org/event-calendar/regional-sunday-services-23/
CATEGORIES:Sunday Services
END:VEVENT
BEGIN:VEVENT
DTSTART;TZID=America/Toronto:20250924T193000
DTEND;TZID=America/Toronto:20250924T210000
DTSTAMP:20260425T115726
CREATED:20241229T090725Z
LAST-MODIFIED:20241229T090725Z
UID:8251-1758742200-1758747600@rctoronto.org
SUMMARY:Men's Midweek
DESCRIPTION:
URL:https://rctoronto.org/event-calendar/mens-midweek-12/
CATEGORIES:Midweek Services
END:VEVENT
BEGIN:VEVENT
DTSTART;TZID=America/Toronto:20250926T193000
DTEND;TZID=America/Toronto:20250926T210000
DTSTAMP:20260425T115726
CREATED:20241229T090758Z
LAST-MODIFIED:20241229T090758Z
UID:8253-1758915000-1758920400@rctoronto.org
SUMMARY:Singles Devotional
DESCRIPTION:
URL:https://rctoronto.org/event-calendar/singles-devotional-9/
CATEGORIES:Devotionals
END:VEVENT
BEGIN:VEVENT
DTSTART;TZID=America/Toronto:20250926T193000
DTEND;TZID=America/Toronto:20250926T210000
DTSTAMP:20260425T115726
CREATED:20241229T090824Z
LAST-MODIFIED:20241229T090824Z
UID:8255-1758915000-1758920400@rctoronto.org
SUMMARY:Campus Devotional
DESCRIPTION:
URL:https://rctoronto.org/event-calendar/campus-devotional-31/
CATEGORIES:Devotionals
END:VEVENT
BEGIN:VEVENT
DTSTART;TZID=America/Toronto:20250927T090000
DTEND;TZID=America/Toronto:20250927T130000
DTSTAMP:20260425T115726
CREATED:20241229T090923Z
LAST-MODIFIED:20241229T090923Z
UID:8257-1758963600-1758978000@rctoronto.org
SUMMARY:RCMS Session (First Class of Semester)
DESCRIPTION:
URL:https://rctoronto.org/event-calendar/rcms-session-first-class-of-semester-2/
CATEGORIES:RCMS
END:VEVENT
BEGIN:VEVENT
DTSTART;TZID=America/Toronto:20250928T100000
DTEND;TZID=America/Toronto:20250928T130000
DTSTAMP:20260425T115726
CREATED:20241229T090950Z
LAST-MODIFIED:20241229T090950Z
UID:8259-1759053600-1759064400@rctoronto.org
SUMMARY:Regional Sunday Services
DESCRIPTION:Regional Sunday Worship Services
URL:https://rctoronto.org/event-calendar/regional-sunday-services-24/
CATEGORIES:Sunday Services
END:VEVENT
BEGIN:VEVENT
DTSTART;VALUE=DATE:20250930
DTEND;VALUE=DATE:20251001
DTSTAMP:20260425T115726
CREATED:20241229T091015Z
LAST-MODIFIED:20241229T091015Z
UID:8261-1759190400-1759276799@rctoronto.org
SUMMARY:National Day for Truth and Reconciliation
DESCRIPTION:
URL:https://rctoronto.org/event-calendar/national-day-for-truth-and-reconciliation/
CATEGORIES:National Holidays
END:VEVENT
BEGIN:VEVENT
DTSTART;TZID=America/Toronto:20251001T193000
DTEND;TZID=America/Toronto:20251001T210000
DTSTAMP:20260425T115726
CREATED:20241229T091500Z
LAST-MODIFIED:20241229T091516Z
UID:8264-1759347000-1759352400@rctoronto.org
SUMMARY:Women's Midweek
DESCRIPTION:
URL:https://rctoronto.org/event-calendar/womens-midweek-15/
CATEGORIES:Midweek Services
END:VEVENT
BEGIN:VEVENT
DTSTART;TZID=America/Toronto:20251003T193000
DTEND;TZID=America/Toronto:20251003T210000
DTSTAMP:20260425T115726
CREATED:20241229T091622Z
LAST-MODIFIED:20241229T091622Z
UID:8267-1759519800-1759525200@rctoronto.org
SUMMARY:Campus Devotional
DESCRIPTION:
URL:https://rctoronto.org/event-calendar/campus-devotional-32/
CATEGORIES:Devotionals
END:VEVENT
BEGIN:VEVENT
DTSTART;TZID=America/Toronto:20251005T100000
DTEND;TZID=America/Toronto:20251005T130000
DTSTAMP:20260425T115726
CREATED:20241229T091647Z
LAST-MODIFIED:20241229T091647Z
UID:8269-1759658400-1759669200@rctoronto.org
SUMMARY:Regional Sunday Services
DESCRIPTION:Regional Sunday Worship Services
URL:https://rctoronto.org/event-calendar/regional-sunday-services-25/
CATEGORIES:Sunday Services
END:VEVENT
BEGIN:VEVENT
DTSTART;TZID=America/Toronto:20251008T193000
DTEND;TZID=America/Toronto:20251008T210000
DTSTAMP:20260425T115726
CREATED:20241229T091716Z
LAST-MODIFIED:20241229T091716Z
UID:8271-1759951800-1759957200@rctoronto.org
SUMMARY:Men's Midweek
DESCRIPTION:
URL:https://rctoronto.org/event-calendar/mens-midweek-13/
CATEGORIES:Midweek Services
END:VEVENT
BEGIN:VEVENT
DTSTART;TZID=America/Toronto:20251010T193000
DTEND;TZID=America/Toronto:20251010T210000
DTSTAMP:20260425T115726
CREATED:20241229T091842Z
LAST-MODIFIED:20241229T091842Z
UID:8273-1760124600-1760130000@rctoronto.org
SUMMARY:Campus Devotional
DESCRIPTION:
URL:https://rctoronto.org/event-calendar/campus-devotional-33/
CATEGORIES:Devotionals
END:VEVENT
BEGIN:VEVENT
DTSTART;TZID=America/Toronto:20251012T100000
DTEND;TZID=America/Toronto:20251012T130000
DTSTAMP:20260425T115726
CREATED:20241229T091927Z
LAST-MODIFIED:20241229T091927Z
UID:8276-1760263200-1760274000@rctoronto.org
SUMMARY:Thanksgiving Worship Service
DESCRIPTION:
URL:https://rctoronto.org/event-calendar/thanksgiving-worship-service/
CATEGORIES:Featured Event,Sunday Services
END:VEVENT
BEGIN:VEVENT
DTSTART;VALUE=DATE:20251013
DTEND;VALUE=DATE:20251014
DTSTAMP:20260425T115726
CREATED:20241229T092001Z
LAST-MODIFIED:20241229T092001Z
UID:8278-1760313600-1760399999@rctoronto.org
SUMMARY:Thanksgiving (Canadian)
DESCRIPTION:
URL:https://rctoronto.org/event-calendar/thanksgiving-canadian/
CATEGORIES:National Holidays
END:VEVENT
BEGIN:VEVENT
DTSTART;TZID=America/Toronto:20251015T193000
DTEND;TZID=America/Toronto:20251015T210000
DTSTAMP:20260425T115726
CREATED:20241229T092047Z
LAST-MODIFIED:20241229T092047Z
UID:8280-1760556600-1760562000@rctoronto.org
SUMMARY:Women's Midweek
DESCRIPTION:
URL:https://rctoronto.org/event-calendar/womens-midweek-16/
CATEGORIES:Midweek Services
END:VEVENT
BEGIN:VEVENT
DTSTART;TZID=America/Toronto:20251017T193000
DTEND;TZID=America/Toronto:20251017T210000
DTSTAMP:20260425T115726
CREATED:20241229T092117Z
LAST-MODIFIED:20241229T092117Z
UID:8282-1760729400-1760734800@rctoronto.org
SUMMARY:Campus Devotional
DESCRIPTION:
URL:https://rctoronto.org/event-calendar/campus-devotional-34/
CATEGORIES:Devotionals
END:VEVENT
BEGIN:VEVENT
DTSTART;TZID=America/Toronto:20251019T100000
DTEND;TZID=America/Toronto:20251019T130000
DTSTAMP:20260425T115726
CREATED:20241229T092344Z
LAST-MODIFIED:20241229T092344Z
UID:8287-1760868000-1760878800@rctoronto.org
SUMMARY:Regional Sunday Services
DESCRIPTION:Regional Sunday Worship Services
URL:https://rctoronto.org/event-calendar/regional-sunday-services-26/
CATEGORIES:Sunday Services
END:VEVENT
BEGIN:VEVENT
DTSTART;TZID=America/Toronto:20251022T193000
DTEND;TZID=America/Toronto:20251022T210000
DTSTAMP:20260425T115726
CREATED:20241229T092410Z
LAST-MODIFIED:20241229T092410Z
UID:8289-1761161400-1761166800@rctoronto.org
SUMMARY:Men's Midweek
DESCRIPTION:
URL:https://rctoronto.org/event-calendar/mens-midweek-14/
CATEGORIES:Midweek Services
END:VEVENT
BEGIN:VEVENT
DTSTART;TZID=America/Toronto:20251024T193000
DTEND;TZID=America/Toronto:20251024T210000
DTSTAMP:20260425T115726
CREATED:20241229T092437Z
LAST-MODIFIED:20241229T092437Z
UID:8291-1761334200-1761339600@rctoronto.org
SUMMARY:Congregational Giving Devotional (Pledge Drive Begins)
DESCRIPTION:
URL:https://rctoronto.org/event-calendar/congregational-giving-devotional-pledge-drive-begins/
CATEGORIES:Devotionals
END:VEVENT
BEGIN:VEVENT
DTSTART;TZID=America/Toronto:20251025T090000
DTEND;TZID=America/Toronto:20251025T130000
DTSTAMP:20260425T115726
CREATED:20241229T092508Z
LAST-MODIFIED:20241229T092508Z
UID:8293-1761382800-1761397200@rctoronto.org
SUMMARY:RCMS Session
DESCRIPTION:
URL:https://rctoronto.org/event-calendar/rcms-session-6/
CATEGORIES:RCMS
END:VEVENT
BEGIN:VEVENT
DTSTART;TZID=America/Toronto:20251026T100000
DTEND;TZID=America/Toronto:20251026T130000
DTSTAMP:20260425T115726
CREATED:20241229T092531Z
LAST-MODIFIED:20241229T092531Z
UID:8295-1761472800-1761483600@rctoronto.org
SUMMARY:Regional Sunday Services
DESCRIPTION:Regional Sunday Worship Services
URL:https://rctoronto.org/event-calendar/regional-sunday-services-27/
CATEGORIES:Sunday Services
END:VEVENT
BEGIN:VEVENT
DTSTART;TZID=America/Toronto:20251029T193000
DTEND;TZID=America/Toronto:20251029T210000
DTSTAMP:20260425T115726
CREATED:20241229T092558Z
LAST-MODIFIED:20241229T092558Z
UID:8297-1761766200-1761771600@rctoronto.org
SUMMARY:Women's Midweek
DESCRIPTION:
URL:https://rctoronto.org/event-calendar/womens-midweek-17/
CATEGORIES:Midweek Services
END:VEVENT
BEGIN:VEVENT
DTSTART;VALUE=DATE:20251031
DTEND;VALUE=DATE:20251101
DTSTAMP:20260425T115726
CREATED:20241229T092636Z
LAST-MODIFIED:20241229T092636Z
UID:8299-1761868800-1761955199@rctoronto.org
SUMMARY:Halloween
DESCRIPTION:
URL:https://rctoronto.org/event-calendar/halloween/
CATEGORIES:National Holidays
END:VEVENT
BEGIN:VEVENT
DTSTART;TZID=America/Toronto:20251031T193000
DTEND;TZID=America/Toronto:20251031T210000
DTSTAMP:20260425T115726
CREATED:20241229T092706Z
LAST-MODIFIED:20241229T092706Z
UID:8301-1761939000-1761944400@rctoronto.org
SUMMARY:Campus & Singles Costume Party
DESCRIPTION:
URL:https://rctoronto.org/event-calendar/campus-singles-costume-party/
CATEGORIES:Devotionals
END:VEVENT
BEGIN:VEVENT
DTSTART;VALUE=DATE:20251102
DTEND;VALUE=DATE:20251103
DTSTAMP:20260425T115726
CREATED:20241229T092758Z
LAST-MODIFIED:20241229T092758Z
UID:8303-1762041600-1762127999@rctoronto.org
SUMMARY:Daylight Savings (Fall Back)
DESCRIPTION:
URL:https://rctoronto.org/event-calendar/daylight-savings-fall-back/
CATEGORIES:National Holidays
END:VEVENT
BEGIN:VEVENT
DTSTART;TZID=America/Toronto:20251102T100000
DTEND;TZID=America/Toronto:20251102T130000
DTSTAMP:20260425T115726
CREATED:20241229T092823Z
LAST-MODIFIED:20241229T092823Z
UID:8305-1762077600-1762088400@rctoronto.org
SUMMARY:Regional Sunday Services
DESCRIPTION:Regional Sunday Worship Services
URL:https://rctoronto.org/event-calendar/regional-sunday-services-28/
CATEGORIES:Sunday Services
END:VEVENT
BEGIN:VEVENT
DTSTART;TZID=America/Toronto:20251105T193000
DTEND;TZID=America/Toronto:20251105T210000
DTSTAMP:20260425T115726
CREATED:20241229T092851Z
LAST-MODIFIED:20241229T092851Z
UID:8307-1762371000-1762376400@rctoronto.org
SUMMARY:Men's Midweek
DESCRIPTION:
URL:https://rctoronto.org/event-calendar/mens-midweek-15/
CATEGORIES:Midweek Services
END:VEVENT
BEGIN:VEVENT
DTSTART;TZID=America/Toronto:20251107T193000
DTEND;TZID=America/Toronto:20251107T210000
DTSTAMP:20260425T115726
CREATED:20241229T092923Z
LAST-MODIFIED:20241229T092923Z
UID:8309-1762543800-1762549200@rctoronto.org
SUMMARY:Campus Devotional
DESCRIPTION:
URL:https://rctoronto.org/event-calendar/campus-devotional-35/
CATEGORIES:Devotionals
END:VEVENT
END:VCALENDAR