BEGIN:VCALENDAR
VERSION:2.0
PRODID:-//Restored Church Toronto - ECPv6.15.20//NONSGML v1.0//EN
CALSCALE:GREGORIAN
METHOD:PUBLISH
X-ORIGINAL-URL:https://rctoronto.org
X-WR-CALDESC:Events for Restored Church Toronto
REFRESH-INTERVAL;VALUE=DURATION:PT1H
X-Robots-Tag:noindex
X-PUBLISHED-TTL:PT1H
BEGIN:VTIMEZONE
TZID:America/Toronto
BEGIN:DAYLIGHT
TZOFFSETFROM:-0500
TZOFFSETTO:-0400
TZNAME:EDT
DTSTART:20240310T070000
END:DAYLIGHT
BEGIN:STANDARD
TZOFFSETFROM:-0400
TZOFFSETTO:-0500
TZNAME:EST
DTSTART:20241103T060000
END:STANDARD
BEGIN:DAYLIGHT
TZOFFSETFROM:-0500
TZOFFSETTO:-0400
TZNAME:EDT
DTSTART:20250309T070000
END:DAYLIGHT
BEGIN:STANDARD
TZOFFSETFROM:-0400
TZOFFSETTO:-0500
TZNAME:EST
DTSTART:20251102T060000
END:STANDARD
BEGIN:DAYLIGHT
TZOFFSETFROM:-0500
TZOFFSETTO:-0400
TZNAME:EDT
DTSTART:20260308T070000
END:DAYLIGHT
BEGIN:STANDARD
TZOFFSETFROM:-0400
TZOFFSETTO:-0500
TZNAME:EST
DTSTART:20261101T060000
END:STANDARD
END:VTIMEZONE
BEGIN:VEVENT
DTSTART;TZID=America/Toronto:20250202T100000
DTEND;TZID=America/Toronto:20250202T130000
DTSTAMP:20260425T200457
CREATED:20241227T195713Z
LAST-MODIFIED:20241227T195713Z
UID:7931-1738490400-1738501200@rctoronto.org
SUMMARY:Regional Sunday Services
DESCRIPTION:Regional Sunday Worship Services
URL:https://rctoronto.org/event-calendar/regional-sunday-services-2/
LOCATION:Pinecrest Event Centre\, 17 Vinyl Ct\, Woodbridge\, Ontario\, L4L 4A3\, Canada
CATEGORIES:Sunday Services
END:VEVENT
BEGIN:VEVENT
DTSTART;TZID=America/Toronto:20250205T193000
DTEND;TZID=America/Toronto:20250205T210000
DTSTAMP:20260425T200457
CREATED:20241227T195754Z
LAST-MODIFIED:20241227T195754Z
UID:7933-1738783800-1738789200@rctoronto.org
SUMMARY:Women's Midweek
DESCRIPTION:
URL:https://rctoronto.org/event-calendar/womens-midweek-3/
CATEGORIES:Midweek Services
END:VEVENT
BEGIN:VEVENT
DTSTART;TZID=America/Toronto:20250207T193000
DTEND;TZID=America/Toronto:20250207T210000
DTSTAMP:20260425T200457
CREATED:20241227T195818Z
LAST-MODIFIED:20241227T195826Z
UID:7935-1738956600-1738962000@rctoronto.org
SUMMARY:Campus Devotional
DESCRIPTION:
URL:https://rctoronto.org/event-calendar/campus-devotional-copy-2/
CATEGORIES:Devotionals
END:VEVENT
BEGIN:VEVENT
DTSTART;TZID=America/Toronto:20250209T100000
DTEND;TZID=America/Toronto:20250209T130000
DTSTAMP:20260425T200457
CREATED:20241227T195903Z
LAST-MODIFIED:20241227T195926Z
UID:7938-1739095200-1739106000@rctoronto.org
SUMMARY:Regional Sunday Services
DESCRIPTION:Regional Sunday Worship Services
URL:https://rctoronto.org/event-calendar/regional-sunday-services-copy/
LOCATION:Pinecrest Event Centre\, 17 Vinyl Ct\, Woodbridge\, Ontario\, L4L 4A3\, Canada
CATEGORIES:Sunday Services
END:VEVENT
BEGIN:VEVENT
DTSTART;TZID=America/Toronto:20250212T193000
DTEND;TZID=America/Toronto:20250212T210000
DTSTAMP:20260425T200457
CREATED:20241227T195955Z
LAST-MODIFIED:20241227T200004Z
UID:7940-1739388600-1739394000@rctoronto.org
SUMMARY:Men's Midweek
DESCRIPTION:
URL:https://rctoronto.org/event-calendar/mens-midweek-copy/
CATEGORIES:Midweek Services
END:VEVENT
BEGIN:VEVENT
DTSTART;VALUE=DATE:20250214
DTEND;VALUE=DATE:20250215
DTSTAMP:20260425T200457
CREATED:20241227T200213Z
LAST-MODIFIED:20241227T200213Z
UID:7944-1739491200-1739577599@rctoronto.org
SUMMARY:Valentines Day
DESCRIPTION:
URL:https://rctoronto.org/event-calendar/valentines-day/
CATEGORIES:National Holidays
END:VEVENT
BEGIN:VEVENT
DTSTART;TZID=America/Toronto:20250214T193000
DTEND;TZID=America/Toronto:20250214T210000
DTSTAMP:20260425T200457
CREATED:20241227T200313Z
LAST-MODIFIED:20241227T200313Z
UID:7947-1739561400-1739566800@rctoronto.org
SUMMARY:Campus Devotional
DESCRIPTION:
URL:https://rctoronto.org/event-calendar/campus-devotional-4/
CATEGORIES:Devotionals
END:VEVENT
BEGIN:VEVENT
DTSTART;TZID=America/Toronto:20250216T100000
DTEND;TZID=America/Toronto:20250216T130000
DTSTAMP:20260425T200457
CREATED:20241227T200427Z
LAST-MODIFIED:20241228T174525Z
UID:7949-1739700000-1739710800@rctoronto.org
SUMMARY:Congregational Sunday Service
DESCRIPTION:Congregational Worship Service
URL:https://rctoronto.org/event-calendar/congregational-sunday-service-4/
CATEGORIES:Sunday Services
END:VEVENT
BEGIN:VEVENT
DTSTART;VALUE=DATE:20250217
DTEND;VALUE=DATE:20250218
DTSTAMP:20260425T200457
CREATED:20241227T200504Z
LAST-MODIFIED:20241227T200504Z
UID:7951-1739750400-1739836799@rctoronto.org
SUMMARY:Family Day
DESCRIPTION:
URL:https://rctoronto.org/event-calendar/family-day/
CATEGORIES:National Holidays
END:VEVENT
BEGIN:VEVENT
DTSTART;TZID=America/Toronto:20250219T193000
DTEND;TZID=America/Toronto:20250219T210000
DTSTAMP:20260425T200457
CREATED:20241227T200613Z
LAST-MODIFIED:20241227T200613Z
UID:7953-1739993400-1739998800@rctoronto.org
SUMMARY:Women's Midweek
DESCRIPTION:
URL:https://rctoronto.org/event-calendar/womens-midweek-4/
CATEGORIES:Midweek Services
END:VEVENT
BEGIN:VEVENT
DTSTART;TZID=America/Toronto:20250221T193000
DTEND;TZID=America/Toronto:20250221T210000
DTSTAMP:20260425T200457
CREATED:20241227T200640Z
LAST-MODIFIED:20241227T201002Z
UID:7955-1740166200-1740171600@rctoronto.org
SUMMARY:Campus Devotional
DESCRIPTION:
URL:https://rctoronto.org/event-calendar/campus-devotional-copy-3/
CATEGORIES:Devotionals
END:VEVENT
BEGIN:VEVENT
DTSTART;TZID=America/Toronto:20250222T090000
DTEND;TZID=America/Toronto:20250222T130000
DTSTAMP:20260425T200457
CREATED:20241227T200723Z
LAST-MODIFIED:20241227T200723Z
UID:7957-1740214800-1740229200@rctoronto.org
SUMMARY:RCMS Session
DESCRIPTION:
URL:https://rctoronto.org/event-calendar/rcms-session/
CATEGORIES:RCMS
END:VEVENT
BEGIN:VEVENT
DTSTART;TZID=America/Toronto:20250223T100000
DTEND;TZID=America/Toronto:20250223T130000
DTSTAMP:20260425T200457
CREATED:20241227T200800Z
LAST-MODIFIED:20241227T200800Z
UID:7959-1740304800-1740315600@rctoronto.org
SUMMARY:Regional Sunday Services
DESCRIPTION:Regional Sunday Worship Services
URL:https://rctoronto.org/event-calendar/regional-sunday-services-3/
LOCATION:Pinecrest Event Centre\, 17 Vinyl Ct\, Woodbridge\, Ontario\, L4L 4A3\, Canada
CATEGORIES:Sunday Services
END:VEVENT
BEGIN:VEVENT
DTSTART;TZID=America/Toronto:20250226T193000
DTEND;TZID=America/Toronto:20250226T210000
DTSTAMP:20260425T200457
CREATED:20241227T200904Z
LAST-MODIFIED:20241227T200904Z
UID:7961-1740598200-1740603600@rctoronto.org
SUMMARY:Men's Midweek
DESCRIPTION:
URL:https://rctoronto.org/event-calendar/mens-midweek-3/
CATEGORIES:Midweek Services
END:VEVENT
BEGIN:VEVENT
DTSTART;TZID=America/Toronto:20250228T193000
DTEND;TZID=America/Toronto:20250228T210000
DTSTAMP:20260425T200457
CREATED:20241227T200945Z
LAST-MODIFIED:20241227T200945Z
UID:7963-1740771000-1740776400@rctoronto.org
SUMMARY:Singles Devotional
DESCRIPTION:
URL:https://rctoronto.org/event-calendar/singles-devotional-2/
CATEGORIES:Devotionals
END:VEVENT
BEGIN:VEVENT
DTSTART;TZID=America/Toronto:20250228T193000
DTEND;TZID=America/Toronto:20250228T210000
DTSTAMP:20260425T200457
CREATED:20241227T201034Z
LAST-MODIFIED:20241227T201034Z
UID:7966-1740771000-1740776400@rctoronto.org
SUMMARY:Campus Devotional
DESCRIPTION:
URL:https://rctoronto.org/event-calendar/campus-devotional-5/
CATEGORIES:Devotionals
END:VEVENT
END:VCALENDAR